BEGIN:VCALENDAR
VERSION:2.0
PRODID:-//Date iCal//NONSGML kigkonsult.se iCalcreator 2.20.2//
METHOD:PUBLISH
X-WR-CALNAME;VALUE=TEXT:UAW Kobol
BEGIN:VTIMEZONE
TZID:America/Detroit
BEGIN:STANDARD
DTSTART:20201101T020000
TZOFFSETFROM:-0400
TZOFFSETTO:-0500
TZNAME:EST
END:STANDARD
BEGIN:DAYLIGHT
DTSTART:20200308T020000
TZOFFSETFROM:-0500
TZOFFSETTO:-0400
RDATE:20210314T020000
TZNAME:EDT
END:DAYLIGHT
END:VTIMEZONE
BEGIN:VEVENT
UID:calendar.97910.field_oa_date.0@region9a.uaw.org
DTSTAMP:20210914T153006Z
CREATED:20200914T165643Z
DESCRIPTION:Responding to members concerns and widespread protests against 
 police brutality\, UAW Region 9A invites you to attend a forum on racism a
 nd policing. Hear from rank and file UAW Region 9A members about their own
  experiences and encounters with the police. Hear from experts on the hist
 ory of policing\, and better understand how union activism can address rac
 ism and the criminal justice system. Time will be left to have our panel o
 f experts and UAW members answer your pressing questions.\n\nJoin the disc
 ussion on policing\, racism\, and labor by registering HERE or by visiting
  the event invite on the UAW Region 9A Facebook page.
DTSTART;TZID=America/Detroit:20200916T190000
DTEND;TZID=America/Detroit:20200916T210000
LAST-MODIFIED:20200915T162148Z
SUMMARY:UAW Region 9A Forum on Racism & Policing
URL;TYPE=URI:https://region9a.uaw.org/local-1596/events/uaw-region-9a-forum
 -racism-policing
END:VEVENT
END:VCALENDAR
